Workbook
Name Age: 'Source Sheet'!$E$12:$E$13
Name Belt: 'Source Sheet'!$D$12:$D$13
Name Cadet: 'Source Sheet'!$D$25:$D$44
Name Junior: 'Source Sheet'!$E$25:$E$44
Name Master1: 'Source Sheet'!$H$25:$H$40
Name Master2: 'Source Sheet'!$I$25:$I$40
Name Senior1: 'Source Sheet'!$F$25:$F$40
Name Senior2: 'Source Sheet'!$G$25:$G$40
Name TJunior: 'Source Sheet'!$G$12:$G$20
Name TSenior1: 'Source Sheet'!$H$12:$H$20

Sheet Affiliate Agreement Form
A1: SINGAPORE OPEN KYORUGI CHAMPIONSHIPS 2024
A2: Affiliate Agreement Form
B35: Agreement
B37: Our team, with team manager as representative, hereby agrees to abide by all above guidelines AND the STF Competition Rules & Regulation listed on the STF website.
B39: =IF(D51=FALSE,"Please Tick On Agreement Check Box To Proceed (Click on box)","") -> Please Tick On Agreement Check Box To Proceed (Click on box)
B41: Affiliate/Club | E41: :
B44: Full Name of | E44: :
B45: Team Manager/Head Coach
B47: Date | E47: :
D51: FALSE

Sheet E-Submission Acknowledgement
A3: SINGAPORE OPEN KYORUGI CHAMPIONSHIPS 2024
A6: To: | B6: Organising Chairman & Organising Committees
A12: On behalf of | C12: ='Affiliate Agreement Form'!F41 -> 0 | I12: ,
C13: (Affiliate/Club as per Agreement Form )
A15: I submit the attached electronic documents and confirm that the players are all members
A17: of the Club. Individual participants submission have been collected with signature and
A19: details verified and approved by the club
A23: =IF('Affiliate Agreement Form'!D51=FALSE,"Please Tick On Affiliate Agreement Check Box (Other sheet) To Proceed","") -> Please Tick On Affiliate Agreement Check Box (Other sheet) To Proceed
B27: Full Name of Team Manager | F27: Date
B33: Team Manager Contact | F33: Team Manager Email

Sheet Registration (Team Kyorugi)
K1: SINGAPORE OPEN KYORUGI CHAMPIONSHIPS 2024
L2: Team Kyorugi Registration List
A5: Fill in Highlighted Cells
A6: 'Press 'Delete' to remove editable cell content
A7: Ensure Weight Category Selected is Accurate (Age Division has differing weight for Junior/Senior, Male/Female/Mixed)
A8: Declare medical condition (if any) for participants under 'Remarks' Column and attach medical clearance letter with electronic submission
A9: Please key in Team Number as 'Team 1', Team 2' for all participants within group. For Substitute Put a (Reserve) at the side of Team number.
N10: Open | P10: Open
A11: S/N | B11: Affiliate | C11: Team Manager | F11: Participant Registration
C12: Name | D12: Contact No. | E12: Email Address | F12: Name | G12: Year of Birth | H12: Competition Age | I12: Age Division | J12: Gender | K12: Belt | L12: Competition Category | M12: Weight Category | N12: Current Weight | O12: Team Number | P12: Medical Declaration (Leave blank if nill)
A13: e.g. | F13: Jack | G13: 1995 | H13: =(YEAR(TODAY()))-G13 -> 29 | I13: {=_xlfn.IFS((H13=2024)," ",(H13<=11)," ",AND(H13>=12,H13<=14),"TCadet",AND(H13>=15,H13<=17),"TJunior",AND(H13>=18,H13<=30),"TSenior1",AND(H13>=31,H13<=40),"TSenior2",AND(H13>=41,H13<=50),"TMaster1",AND(H13>=51),"TMaster2")} -> TSenior1 | J13: Male | K13: Black | L13: Mixed Team of 4 | M13: Mixed - 68.1 to 78 | N13: 75 | O13: Team 1
A14: e.g. | F14: Patrick | G14: 2000 | H14: =(YEAR(TODAY()))-G14 -> 24 | I14: {=_xlfn.IFS((H14=2024)," ",(H14<=11)," ",AND(H14>=12,H14<=14),"TCadet",AND(H14>=15,H14<=17),"TJunior",AND(H14>=18,H14<=30),"TSenior1",AND(H14>=31,H14<=40),"TSenior2",AND(H14>=41,H14<=50),"TMaster1",AND(H14>=51),"TMaster2")} -> TSenior1 | J14: Male | K14: Black | L14: Mixed Team of 4 | M14: Mixed - 68.1 to 78 | N14: 76.8 | O14: Team 1
A15: e.g. | F15: Jill | G15: 2003 | H15: =(YEAR(TODAY()))-G15 -> 21 | I15: {=_xlfn.IFS((H15=2024)," ",(H15<=11)," ",AND(H15>=12,H15<=14),"TCadet",AND(H15>=15,H15<=17),"TJunior",AND(H15>=18,H15<=30),"TSenior1",AND(H15>=31,H15<=40),"TSenior2",AND(H15>=41,H15<=50),"TMaster1",AND(H15>=51),"TMaster2")} -> TSenior1 | J15: Female | K15: Black | L15: Mixed Team of 4 | M15: Mixed - 68.1 to 78 | N15: 70 | O15: Team 1
A16: e.g. | F16: Janet | G16: 2002 | H16: =(YEAR(TODAY()))-G16 -> 22 | I16: {=_xlfn.IFS((H16=2024)," ",(H16<=11)," ",AND(H16>=12,H16<=14),"TCadet",AND(H16>=15,H16<=17),"TJunior",AND(H16>=18,H16<=30),"TSenior1",AND(H16>=31,H16<=40),"TSenior2",AND(H16>=41,H16<=50),"TMaster1",AND(H16>=51),"TMaster2")} -> TSenior1 | J16: Female | K16: Black | L16: Mixed Team of 4 | M16: Mixed - 68.1 to 78 | N16: 71.2 | O16: Team 1
A17: e.g. | F17: Tristan | G17: 2000 | H17: =(YEAR(TODAY()))-G17 -> 24 | I17: {=_xlfn.IFS((H17=2024)," ",(H17<=11)," ",AND(H17>=12,H17<=14),"TCadet",AND(H17>=15,H17<=17),"TJunior",AND(H17>=18,H17<=30),"TSenior1",AND(H17>=31,H17<=40),"TSenior2",AND(H17>=41,H17<=50),"TMaster1",AND(H17>=51),"TMaster2")} -> TSenior1 | J17: Male | K17: Black | L17: Mixed Team of 4 | M17: Mixed - 68.1 to 78 | N17: 73.4 | O17: Team 1 (Reserve)
A18: e.g. | F18: Phoebe | G18: 1998 | H18: =(YEAR(TODAY()))-G18 -> 26 | I18: {=_xlfn.IFS((H18=2024)," ",(H18<=11)," ",AND(H18>=12,H18<=14),"TCadet",AND(H18>=15,H18<=17),"TJunior",AND(H18>=18,H18<=30),"TSenior1",AND(H18>=31,H18<=40),"TSenior2",AND(H18>=41,H18<=50),"TMaster1",AND(H18>=51),"TMaster2")} -> TSenior1 | J18: Female | K18: Black | L18: Mixed Team of 4 | M18: Mixed - 68.1 to 78 | N18: 68.5 | O18: Team 1 (Reserve)
A19: 1 | B19: ='Affiliate Agreement Form'!$F$41 -> 0 | C19: ='E-Submission Acknowledgement'!$B$26 -> 0 | D19: ='E-Submission Acknowledgement'!$B$32 -> 0 | E19: ='E-Submission Acknowledgement'!$F$32 -> 0 | H19: =(YEAR(TODAY()))-G19 -> 2024 | I19: {=_xlfn.IFS((H19=2024)," ",(H19<=11)," ",AND(H19>=12,H19<=14),"TCadet",AND(H19>=15,H19<=17),"TJunior",AND(H19>=18,H19<=30),"TSenior1",AND(H19>=31,H19<=40),"TSenior2",AND(H19>=41,H19<=50),"TMaster1",AND(H19>=51),"TMaster2")}
A20: 2 | B20: ='Affiliate Agreement Form'!$F$41 -> 0 | C20: ='E-Submission Acknowledgement'!$B$26 -> 0 | D20: ='E-Submission Acknowledgement'!$B$32 -> 0 | E20: ='E-Submission Acknowledgement'!$F$32 -> 0 | H20: =(YEAR(TODAY()))-G20 -> 2024 | I20: {=_xlfn.IFS((H20=2024)," ",(H20<=11)," ",AND(H20>=12,H20<=14),"TCadet",AND(H20>=15,H20<=17),"TJunior",AND(H20>=18,H20<=30),"TSenior1",AND(H20>=31,H20<=40),"TSenior2",AND(H20>=41,H20<=50),"TMaster1",AND(H20>=51),"TMaster2")}
A21: 3 | B21: ='Affiliate Agreement Form'!$F$41 -> 0 | C21: ='E-Submission Acknowledgement'!$B$26 -> 0 | D21: ='E-Submission Acknowledgement'!$B$32 -> 0 | E21: ='E-Submission Acknowledgement'!$F$32 -> 0 | H21: =(YEAR(TODAY()))-G21 -> 2024 | I21: {=_xlfn.IFS((H21=2024)," ",(H21<=11)," ",AND(H21>=12,H21<=14),"TCadet",AND(H21>=15,H21<=17),"TJunior",AND(H21>=18,H21<=30),"TSenior1",AND(H21>=31,H21<=40),"TSenior2",AND(H21>=41,H21<=50),"TMaster1",AND(H21>=51),"TMaster2")}
A22: 4 | B22: ='Affiliate Agreement Form'!$F$41 -> 0 | C22: ='E-Submission Acknowledgement'!$B$26 -> 0 | D22: ='E-Submission Acknowledgement'!$B$32 -> 0 | E22: ='E-Submission Acknowledgement'!$F$32 -> 0 | H22: =(YEAR(TODAY()))-G22 -> 2024 | I22: {=_xlfn.IFS((H22=2024)," ",(H22<=11)," ",AND(H22>=12,H22<=14),"TCadet",AND(H22>=15,H22<=17),"TJunior",AND(H22>=18,H22<=30),"TSenior1",AND(H22>=31,H22<=40),"TSenior2",AND(H22>=41,H22<=50),"TMaster1",AND(H22>=51),"TMaster2")}
A23: 5 | B23: ='Affiliate Agreement Form'!$F$41 -> 0 | C23: ='E-Submission Acknowledgement'!$B$26 -> 0 | D23: ='E-Submission Acknowledgement'!$B$32 -> 0 | E23: ='E-Submission Acknowledgement'!$F$32 -> 0 | H23: =(YEAR(TODAY()))-G23 -> 2024 | I23: {=_xlfn.IFS((H23=2024)," ",(H23<=11)," ",AND(H23>=12,H23<=14),"TCadet",AND(H23>=15,H23<=17),"TJunior",AND(H23>=18,H23<=30),"TSenior1",AND(H23>=31,H23<=40),"TSenior2",AND(H23>=41,H23<=50),"TMaster1",AND(H23>=51),"TMaster2")}
A24: 6 | B24: ='Affiliate Agreement Form'!$F$41 -> 0 | C24: ='E-Submission Acknowledgement'!$B$26 -> 0 | D24: ='E-Submission Acknowledgement'!$B$32 -> 0 | E24: ='E-Submission Acknowledgement'!$F$32 -> 0 | H24: =(YEAR(TODAY()))-G24 -> 2024 | I24: {=_xlfn.IFS((H24=2024)," ",(H24<=11)," ",AND(H24>=12,H24<=14),"TCadet",AND(H24>=15,H24<=17),"TJunior",AND(H24>=18,H24<=30),"TSenior1",AND(H24>=31,H24<=40),"TSenior2",AND(H24>=41,H24<=50),"TMaster1",AND(H24>=51),"TMaster2")}
A25: 7 | B25: ='Affiliate Agreement Form'!$F$41 -> 0 | C25: ='E-Submission Acknowledgement'!$B$26 -> 0 | D25: ='E-Submission Acknowledgement'!$B$32 -> 0 | E25: ='E-Submission Acknowledgement'!$F$32 -> 0 | H25: =(YEAR(TODAY()))-G25 -> 2024 | I25: {=_xlfn.IFS((H25=2024)," ",(H25<=11)," ",AND(H25>=12,H25<=14),"TCadet",AND(H25>=15,H25<=17),"TJunior",AND(H25>=18,H25<=30),"TSenior1",AND(H25>=31,H25<=40),"TSenior2",AND(H25>=41,H25<=50),"TMaster1",AND(H25>=51),"TMaster2")}
A26: 8 | B26: ='Affiliate Agreement Form'!$F$41 -> 0 | C26: ='E-Submission Acknowledgement'!$B$26 -> 0 | D26: ='E-Submission Acknowledgement'!$B$32 -> 0 | E26: ='E-Submission Acknowledgement'!$F$32 -> 0 | H26: =(YEAR(TODAY()))-G26 -> 2024 | I26: {=_xlfn.IFS((H26=2024)," ",(H26<=11)," ",AND(H26>=12,H26<=14),"TCadet",AND(H26>=15,H26<=17),"TJunior",AND(H26>=18,H26<=30),"TSenior1",AND(H26>=31,H26<=40),"TSenior2",AND(H26>=41,H26<=50),"TMaster1",AND(H26>=51),"TMaster2")}
A27: 9 | B27: ='Affiliate Agreement Form'!$F$41 -> 0 | C27: ='E-Submission Acknowledgement'!$B$26 -> 0 | D27: ='E-Submission Acknowledgement'!$B$32 -> 0 | E27: ='E-Submission Acknowledgement'!$F$32 -> 0 | H27: =(YEAR(TODAY()))-G27 -> 2024 | I27: {=_xlfn.IFS((H27=2024)," ",(H27<=11)," ",AND(H27>=12,H27<=14),"TCadet",AND(H27>=15,H27<=17),"TJunior",AND(H27>=18,H27<=30),"TSenior1",AND(H27>=31,H27<=40),"TSenior2",AND(H27>=41,H27<=50),"TMaster1",AND(H27>=51),"TMaster2")}
A28: 10 | B28: ='Affiliate Agreement Form'!$F$41 -> 0 | C28: ='E-Submission Acknowledgement'!$B$26 -> 0 | D28: ='E-Submission Acknowledgement'!$B$32 -> 0 | E28: ='E-Submission Acknowledgement'!$F$32 -> 0 | H28: =(YEAR(TODAY()))-G28 -> 2024 | I28: {=_xlfn.IFS((H28=2024)," ",(H28<=11)," ",AND(H28>=12,H28<=14),"TCadet",AND(H28>=15,H28<=17),"TJunior",AND(H28>=18,H28<=30),"TSenior1",AND(H28>=31,H28<=40),"TSenior2",AND(H28>=41,H28<=50),"TMaster1",AND(H28>=51),"TMaster2")}
A29: 11 | B29: ='Affiliate Agreement Form'!$F$41 -> 0 | C29: ='E-Submission Acknowledgement'!$B$26 -> 0 | D29: ='E-Submission Acknowledgement'!$B$32 -> 0 | E29: ='E-Submission Acknowledgement'!$F$32 -> 0 | H29: =(YEAR(TODAY()))-G29 -> 2024 | I29: {=_xlfn.IFS((H29=2024)," ",(H29<=11)," ",AND(H29>=12,H29<=14),"TCadet",AND(H29>=15,H29<=17),"TJunior",AND(H29>=18,H29<=30),"TSenior1",AND(H29>=31,H29<=40),"TSenior2",AND(H29>=41,H29<=50),"TMaster1",AND(H29>=51),"TMaster2")}
A30: 12 | B30: ='Affiliate Agreement Form'!$F$41 -> 0 | C30: ='E-Submission Acknowledgement'!$B$26 -> 0 | D30: ='E-Submission Acknowledgement'!$B$32 -> 0 | E30: ='E-Submission Acknowledgement'!$F$32 -> 0 | H30: =(YEAR(TODAY()))-G30 -> 2024 | I30: {=_xlfn.IFS((H30=2024)," ",(H30<=11)," ",AND(H30>=12,H30<=14),"TCadet",AND(H30>=15,H30<=17),"TJunior",AND(H30>=18,H30<=30),"TSenior1",AND(H30>=31,H30<=40),"TSenior2",AND(H30>=41,H30<=50),"TMaster1",AND(H30>=51),"TMaster2")}
... A218: 200 | B218: ='Affiliate Agreement Form'!$F$41 -> 0 | C218: ='E-Submission Acknowledgement'!$B$26 -> 0 | D218: ='E-Submission Acknowledgement'!$B$32 -> 0 | E218: ='E-Submission Acknowledgement'!$F$32 -> 0 | H218: =(YEAR(TODAY()))-G218 -> 2024 | I218: {=_xlfn.IFS((H218=2024)," ",(H218<=11)," ",AND(H218>=12,H218<=14),"TCadet",AND(H218>=15,H218<=17),"TJunior",AND(H218>=18,H218<=30),"TSenior1",AND(H218>=31,H218<=40),"TSenior2",AND(H218>=41,H218<=50),"TMaster1",AND(H218>=51),"TMaster2")}

Sheet Registration (Indiv Kyorugi) 
K1: SINGAPORE OPEN KYORUGI CHAMPIONSHIPS 2024
L2: Team Kyorugi Registration List
A5: Fill in Highlighted Cells
A6: 'Press 'Delete' to remove editable cell content
A7: Ensure Weight Category Selected is Accurate (Age Division has differing weight for Junior/Senior, Male/Female/Mixed)
A8: Declare medical condition (if any) for participants under 'Remarks' Column and attach medical clearance letter with electronic submission
N9: Open | O9: Open
A10: S/N | B10: Affiliate | C10: Team Manager | F10: Participant Registration
C11: Name | D11: Contact No. | E11: Email Address | F11: Name | G11: Year of Birth | H11: Competition Age | I11: Age Division | J11: Gender | K11: Belt | L11: Competition Category | M11: Weight Category | N11: Current Weight | O11: Medical Declaration (Leave blank if nill)
A12: 1 | B12: ='Affiliate Agreement Form'!$F$41 -> 0 | C12: ='E-Submission Acknowledgement'!$B$26 -> 0 | D12: ='E-Submission Acknowledgement'!$B$32 -> 0 | E12: ='E-Submission Acknowledgement'!$F$32 -> 0 | H12: =(YEAR(TODAY()))-G12 -> 2024 | I12: {=_xlfn.IFS((H12=2024)," ",(H12<=11)," ",AND(H12>=12,H12<=14),"Cadet",AND(H12>=15,H12<=17),"Junior",AND(H12>=18,H12<=30),"Senior1",AND(H12>=31,H12<=40),"Senior2",AND(H12>=41,H12<=50),"Master1",AND(H12>=51),"Master2")}
A13: 2 | B13: ='Affiliate Agreement Form'!$F$41 -> 0 | C13: ='E-Submission Acknowledgement'!$B$26 -> 0 | D13: ='E-Submission Acknowledgement'!$B$32 -> 0 | E13: ='E-Submission Acknowledgement'!$F$32 -> 0 | H13: =(YEAR(TODAY()))-G13 -> 2024 | I13: {=_xlfn.IFS((H13=2024)," ",(H13<=11)," ",AND(H13>=12,H13<=14),"Cadet",AND(H13>=15,H13<=17),"Junior",AND(H13>=18,H13<=30),"Senior1",AND(H13>=31,H13<=40),"Senior2",AND(H13>=41,H13<=50),"Master1",AND(H13>=51),"Master2")}
A14: 3 | B14: ='Affiliate Agreement Form'!$F$41 -> 0 | C14: ='E-Submission Acknowledgement'!$B$26 -> 0 | D14: ='E-Submission Acknowledgement'!$B$32 -> 0 | E14: ='E-Submission Acknowledgement'!$F$32 -> 0 | H14: =(YEAR(TODAY()))-G14 -> 2024 | I14: {=_xlfn.IFS((H14=2024)," ",(H14<=11)," ",AND(H14>=12,H14<=14),"Cadet",AND(H14>=15,H14<=17),"Junior",AND(H14>=18,H14<=30),"Senior1",AND(H14>=31,H14<=40),"Senior2",AND(H14>=41,H14<=50),"Master1",AND(H14>=51),"Master2")}
A15: 4 | B15: ='Affiliate Agreement Form'!$F$41 -> 0 | C15: ='E-Submission Acknowledgement'!$B$26 -> 0 | D15: ='E-Submission Acknowledgement'!$B$32 -> 0 | E15: ='E-Submission Acknowledgement'!$F$32 -> 0 | H15: =(YEAR(TODAY()))-G15 -> 2024 | I15: {=_xlfn.IFS((H15=2024)," ",(H15<=11)," ",AND(H15>=12,H15<=14),"Cadet",AND(H15>=15,H15<=17),"Junior",AND(H15>=18,H15<=30),"Senior1",AND(H15>=31,H15<=40),"Senior2",AND(H15>=41,H15<=50),"Master1",AND(H15>=51),"Master2")}
A16: 5 | B16: ='Affiliate Agreement Form'!$F$41 -> 0 | C16: ='E-Submission Acknowledgement'!$B$26 -> 0 | D16: ='E-Submission Acknowledgement'!$B$32 -> 0 | E16: ='E-Submission Acknowledgement'!$F$32 -> 0 | H16: =(YEAR(TODAY()))-G16 -> 2024 | I16: {=_xlfn.IFS((H16=2024)," ",(H16<=11)," ",AND(H16>=12,H16<=14),"Cadet",AND(H16>=15,H16<=17),"Junior",AND(H16>=18,H16<=30),"Senior1",AND(H16>=31,H16<=40),"Senior2",AND(H16>=41,H16<=50),"Master1",AND(H16>=51),"Master2")}
A17: 6 | B17: ='Affiliate Agreement Form'!$F$41 -> 0 | C17: ='E-Submission Acknowledgement'!$B$26 -> 0 | D17: ='E-Submission Acknowledgement'!$B$32 -> 0 | E17: ='E-Submission Acknowledgement'!$F$32 -> 0 | H17: =(YEAR(TODAY()))-G17 -> 2024 | I17: {=_xlfn.IFS((H17=2024)," ",(H17<=11)," ",AND(H17>=12,H17<=14),"Cadet",AND(H17>=15,H17<=17),"Junior",AND(H17>=18,H17<=30),"Senior1",AND(H17>=31,H17<=40),"Senior2",AND(H17>=41,H17<=50),"Master1",AND(H17>=51),"Master2")}
A18: 7 | B18: ='Affiliate Agreement Form'!$F$41 -> 0 | C18: ='E-Submission Acknowledgement'!$B$26 -> 0 | D18: ='E-Submission Acknowledgement'!$B$32 -> 0 | E18: ='E-Submission Acknowledgement'!$F$32 -> 0 | H18: =(YEAR(TODAY()))-G18 -> 2024 | I18: {=_xlfn.IFS((H18=2024)," ",(H18<=11)," ",AND(H18>=12,H18<=14),"Cadet",AND(H18>=15,H18<=17),"Junior",AND(H18>=18,H18<=30),"Senior1",AND(H18>=31,H18<=40),"Senior2",AND(H18>=41,H18<=50),"Master1",AND(H18>=51),"Master2")}
A19: 8 | B19: ='Affiliate Agreement Form'!$F$41 -> 0 | C19: ='E-Submission Acknowledgement'!$B$26 -> 0 | D19: ='E-Submission Acknowledgement'!$B$32 -> 0 | E19: ='E-Submission Acknowledgement'!$F$32 -> 0 | H19: =(YEAR(TODAY()))-G19 -> 2024 | I19: {=_xlfn.IFS((H19=2024)," ",(H19<=11)," ",AND(H19>=12,H19<=14),"Cadet",AND(H19>=15,H19<=17),"Junior",AND(H19>=18,H19<=30),"Senior1",AND(H19>=31,H19<=40),"Senior2",AND(H19>=41,H19<=50),"Master1",AND(H19>=51),"Master2")}
A20: 9 | B20: ='Affiliate Agreement Form'!$F$41 -> 0 | C20: ='E-Submission Acknowledgement'!$B$26 -> 0 | D20: ='E-Submission Acknowledgement'!$B$32 -> 0 | E20: ='E-Submission Acknowledgement'!$F$32 -> 0 | H20: =(YEAR(TODAY()))-G20 -> 2024 | I20: {=_xlfn.IFS((H20=2024)," ",(H20<=11)," ",AND(H20>=12,H20<=14),"Cadet",AND(H20>=15,H20<=17),"Junior",AND(H20>=18,H20<=30),"Senior1",AND(H20>=31,H20<=40),"Senior2",AND(H20>=41,H20<=50),"Master1",AND(H20>=51),"Master2")}
A21: 10 | B21: ='Affiliate Agreement Form'!$F$41 -> 0 | C21: ='E-Submission Acknowledgement'!$B$26 -> 0 | D21: ='E-Submission Acknowledgement'!$B$32 -> 0 | E21: ='E-Submission Acknowledgement'!$F$32 -> 0 | H21: =(YEAR(TODAY()))-G21 -> 2024 | I21: {=_xlfn.IFS((H21=2024)," ",(H21<=11)," ",AND(H21>=12,H21<=14),"Cadet",AND(H21>=15,H21<=17),"Junior",AND(H21>=18,H21<=30),"Senior1",AND(H21>=31,H21<=40),"Senior2",AND(H21>=41,H21<=50),"Master1",AND(H21>=51),"Master2")}
A22: 11 | B22: ='Affiliate Agreement Form'!$F$41 -> 0 | C22: ='E-Submission Acknowledgement'!$B$26 -> 0 | D22: ='E-Submission Acknowledgement'!$B$32 -> 0 | E22: ='E-Submission Acknowledgement'!$F$32 -> 0 | H22: =(YEAR(TODAY()))-G22 -> 2024 | I22: {=_xlfn.IFS((H22=2024)," ",(H22<=11)," ",AND(H22>=12,H22<=14),"Cadet",AND(H22>=15,H22<=17),"Junior",AND(H22>=18,H22<=30),"Senior1",AND(H22>=31,H22<=40),"Senior2",AND(H22>=41,H22<=50),"Master1",AND(H22>=51),"Master2")}
A23: 12 | B23: ='Affiliate Agreement Form'!$F$41 -> 0 | C23: ='E-Submission Acknowledgement'!$B$26 -> 0 | D23: ='E-Submission Acknowledgement'!$B$32 -> 0 | E23: ='E-Submission Acknowledgement'!$F$32 -> 0 | H23: =(YEAR(TODAY()))-G23 -> 2024 | I23: {=_xlfn.IFS((H23=2024)," ",(H23<=11)," ",AND(H23>=12,H23<=14),"Cadet",AND(H23>=15,H23<=17),"Junior",AND(H23>=18,H23<=30),"Senior1",AND(H23>=31,H23<=40),"Senior2",AND(H23>=41,H23<=50),"Master1",AND(H23>=51),"Master2")}
... A211: 200 | B211: ='Affiliate Agreement Form'!$F$41 -> 0 | C211: ='E-Submission Acknowledgement'!$B$26 -> 0 | D211: ='E-Submission Acknowledgement'!$B$32 -> 0 | E211: ='E-Submission Acknowledgement'!$F$32 -> 0 | H211: =(YEAR(TODAY()))-G211 -> 2024 | I211: {=_xlfn.IFS((H211=2024)," ",(H211<=11)," ",AND(H211>=12,H211<=14),"Cadet",AND(H211>=15,H211<=17),"Junior",AND(H211>=18,H211<=30),"Senior1",AND(H211>=31,H211<=40),"Senior2",AND(H211>=41,H211<=50),"Master1",AND(H211>=51),"Master2")}
I212: {=_xlfn.IFS((H212=2024)," ",(H212<=11)," ",AND(H212>=12,H212<=14),"Cadet",AND(H212>=15,H212<=17),"Junior",AND(H212>=18,H212<=30),"Senior1",AND(H212>=31,H212<=40),"Senior2",AND(H212>=41,H212<=50),"Master1",AND(H212>=51),"Master2")}
I213: {=_xlfn.IFS((H213=2024)," ",(H213<=11)," ",AND(H213>=12,H213<=14),"Cadet",AND(H213>=15,H213<=17),"Junior",AND(H213>=18,H213<=30),"Senior1",AND(H213>=31,H213<=40),"Senior2",AND(H213>=41,H213<=50),"Master1",AND(H213>=51),"Master2")}
I214: {=_xlfn.IFS((H214=2024)," ",(H214<=11)," ",AND(H214>=12,H214<=14),"Cadet",AND(H214>=15,H214<=17),"Junior",AND(H214>=18,H214<=30),"Senior1",AND(H214>=31,H214<=40),"Senior2",AND(H214>=41,H214<=50),"Master1",AND(H214>=51),"Master2")}
I215: {=_xlfn.IFS((H215=2024)," ",(H215<=11)," ",AND(H215>=12,H215<=14),"Cadet",AND(H215>=15,H215<=17),"Junior",AND(H215>=18,H215<=30),"Senior1",AND(H215>=31,H215<=40),"Senior2",AND(H215>=41,H215<=50),"Master1",AND(H215>=51),"Master2")}
I216: {=_xlfn.IFS((H216=2024)," ",(H216<=11)," ",AND(H216>=12,H216<=14),"Cadet",AND(H216>=15,H216<=17),"Junior",AND(H216>=18,H216<=30),"Senior1",AND(H216>=31,H216<=40),"Senior2",AND(H216>=41,H216<=50),"Master1",AND(H216>=51),"Master2")}
I217: {=_xlfn.IFS((H217=2024)," ",(H217<=11)," ",AND(H217>=12,H217<=14),"Cadet",AND(H217>=15,H217<=17),"Junior",AND(H217>=18,H217<=30),"Senior1",AND(H217>=31,H217<=40),"Senior2",AND(H217>=41,H217<=50),"Master1",AND(H217>=51),"Master2")}

Sheet Source Sheet
A1: Age Division | B1: Kyorugi
A2: Junior | B2: 15 to 17
A3: Senior | B3: 18 to 30
D10: Kyorugi Sheet
C11: Competition Category | D11: Kyorugi Belt Level | E11: Age | F11: Gender | G11: Junior | H11: Senior
C12: Female Team of 4 | D12: Black | E12: Junior | F12: Male | G12: Female - 40.1 to 50 | H12: Female - 45.1 to 55
C13: Male Team of 4 | E13: Senior | F13: Female | G13: Female - 50.1 to 60 | H13: Female - 55.1 to 65
C14: Mixed Team of 4 | G14: Female 60.1 to 70 | H14: Female - 65.1 to 75
G15: Male - 45.1 to 55 | H15: Male - 50.1 to 60
G16: Male - 55.1 to 65 | H16: Male - 60.1 to 70
G17: Male - 65.1 to 75 | H17: Male - 70.1 to 80
G18: Mixed - 43.1 to 53 | H18: Mixed - 48.1 to 58
G19: Mixed - 53.1 to 63 | H19: Mixed - 58.1 to 68
G20: Mixed - 63.1 to 73 | H20: Mixed - 68.1 to 78
D23: Kyorugi Sheet
D24: Cadet | E24: Junior | F24: Senior1 | G24: Senior2 | H24: Master1 | I24: Master2
C25: Individual | D25: Male: U33kg | E25: Male: U45kg | F25: Male: U54kg | G25: Male: U54kg | H25: Male: U54kg | I25: Male: U54kg
D26: Male: 33.1 – 37 kg | E26: Male: 45.1 - 48kg | F26: Male: 54.1 - 58kg | G26: Male: 54.1 - 58kg | H26: Male: 54.1 - 58kg | I26: Male: 54.1 - 58kg
D27: Male: 37.1 – 41 kg | E27: Male: 48.1 - 51kg | F27: Male: 58.1 - 63kg | G27: Male: 58.1 - 63kg | H27: Male: 58.1 - 63kg | I27: Male: 58.1 - 63kg
D28: Male: 41.1 – 45 kg | E28: Male: 51.1 - 55kg | F28: Male: 63.1 - 68kg | G28: Male: 63.1 - 68kg | H28: Male: 63.1 - 68kg | I28: Male: 63.1 - 68kg
D29: Male: 45.1 – 49 kg | E29: Male: 55.1 - 59kg | F29: Male: 68.1 - 74kg | G29: Male: 68.1 - 74kg | H29: Male: 68.1 - 74kg | I29: Male: 68.1 - 74kg
D30: Male: 49.1 – 53 kg | E30: Male: 59.1 - 63kg | F30: Male: 74.1 - 80kg | G30: Male: 74.1 - 80kg | H30: Male: 74.1 - 80kg | I30: Male: 74.1 - 80kg
D31: Male: 53.1 – 57 kg | E31: Male: 63.1 - 68kg | F31: Male: 80.1 - 87kg | G31: Male: 80.1 - 87kg | H31: Male: 80.1 - 87kg | I31: Male: 80.1 - 87kg
D32: Male: 57.1 – 61 kg | E32: Male: 68.1 - 73kg | F32: Male: Over 87kg | G32: Male: Over 87kg | H32: Male: Over 87kg | I32: Male: Over 87kg
D33: Male: 61.1 – 65 kg | E33: Male: 73.1 - 78kg | F33: Female: U46kg | G33: Female: U46kg | H33: Female: U46kg | I33: Female: U46kg
D34: Male: Over 65kg | E34: Male: Over 78kg | F34: Female: 46.1 - 49kg | G34: Female: 46.1 - 49kg | H34: Female: 46.1 - 49kg | I34: Female: 46.1 - 49kg
D35: Female: U29kg | E35: Female: U42kg | F35: Female: 49.1 - 53kg | G35: Female: 49.1 - 53kg | H35: Female: 49.1 - 53kg | I35: Female: 49.1 - 53kg
D36: Female: 29.1 – 33 kg | E36: Female: 42.1 - 44kg | F36: Female: 53.1 - 57kg | G36: Female: 53.1 - 57kg | H36: Female: 53.1 - 57kg | I36: Female: 53.1 - 57kg
D37: Female: 33.1 – 37 kg | E37: Female: 44.1 - 46kg | F37: Female: 57.1 - 62kg | G37: Female: 57.1 - 62kg | H37: Female: 57.1 - 62kg | I37: Female: 57.1 - 62kg
... D40: Female: 44.1 – 47 kg | E40: Female: 52.1 - 55kg | F40: Female: Over 73kg | G40: Female: Over 73kg | H40: Female: Over 73kg | I40: Female: Over 73kg
D41: Female: 47.1 – 51 kg | E41: Female: 55.1 - 59kg
D42: Female: 51.1 – 55 kg | E42: Female: 59.1 - 63kg
D43: Female: 55.1 – 59 kg | E43: Female: 63.1 - 68kg
D44: Female: Over 59 kg | E44: Female: Over 68kg
